BEGIN:VCALENDAR
VERSION:2.0
PRODID:-//KCVJMC.COM - ECPv6.15.20//NONSGML v1.0//EN
CALSCALE:GREGORIAN
METHOD:PUBLISH
X-WR-CALNAME:KCVJMC.COM
X-ORIGINAL-URL:https://kcvjmc.com
X-WR-CALDESC:Events for KCVJMC.COM
REFRESH-INTERVAL;VALUE=DURATION:PT1H
X-Robots-Tag:noindex
X-PUBLISHED-TTL:PT1H
BEGIN:VTIMEZONE
TZID:America/Chicago
BEGIN:DAYLIGHT
TZOFFSETFROM:-0600
TZOFFSETTO:-0500
TZNAME:CDT
DTSTART:20240310T080000
END:DAYLIGHT
BEGIN:STANDARD
TZOFFSETFROM:-0500
TZOFFSETTO:-0600
TZNAME:CST
DTSTART:20241103T070000
END:STANDARD
BEGIN:DAYLIGHT
TZOFFSETFROM:-0600
TZOFFSETTO:-0500
TZNAME:CDT
DTSTART:20250309T080000
END:DAYLIGHT
BEGIN:STANDARD
TZOFFSETFROM:-0500
TZOFFSETTO:-0600
TZNAME:CST
DTSTART:20251102T070000
END:STANDARD
BEGIN:DAYLIGHT
TZOFFSETFROM:-0600
TZOFFSETTO:-0500
TZNAME:CDT
DTSTART:20260308T080000
END:DAYLIGHT
BEGIN:STANDARD
TZOFFSETFROM:-0500
TZOFFSETTO:-0600
TZNAME:CST
DTSTART:20261101T070000
END:STANDARD
BEGIN:DAYLIGHT
TZOFFSETFROM:-0600
TZOFFSETTO:-0500
TZNAME:CDT
DTSTART:20270314T080000
END:DAYLIGHT
BEGIN:STANDARD
TZOFFSETFROM:-0500
TZOFFSETTO:-0600
TZNAME:CST
DTSTART:20271107T070000
END:STANDARD
END:VTIMEZONE
BEGIN:VEVENT
DTSTART;TZID=America/Chicago:20261027T060000
DTEND;TZID=America/Chicago:20261027T200000
DTSTAMP:20260424T012018
CREATED:20260203T024615Z
LAST-MODIFIED:20260203T025227Z
UID:3447-1793080800-1793131200@kcvjmc.com
SUMMARY:Club Meeting - Zarda BBQ - Lenexa
DESCRIPTION:Please Join Us!
URL:https://kcvjmc.com/event/kcvjmc-meeting-zarda-bbq-2/
END:VEVENT
BEGIN:VEVENT
DTSTART;VALUE=DATE:20261009
DTEND;VALUE=DATE:20261012
DTSTAMP:20260424T012018
CREATED:20250903T012510Z
LAST-MODIFIED:20260322T200854Z
UID:3217-1791504000-1791763199@kcvjmc.com
SUMMARY:Barber Vintage Festival
DESCRIPTION:Barber Motorsports Park in Leeds\, Alabama
URL:https://kcvjmc.com/event/barber-vintage-festival/
LOCATION:Barber Vintage Motorsports Museum\, 6030 Barbersports Parkway\, Leeds\, AL\, 35094\, United States
END:VEVENT
BEGIN:VEVENT
DTSTART;TZID=America/Chicago:20260929T180000
DTEND;TZID=America/Chicago:20260929T200000
DTSTAMP:20260424T012018
CREATED:20260203T024452Z
LAST-MODIFIED:20260203T025026Z
UID:3445-1790704800-1790712000@kcvjmc.com
SUMMARY:Club Meeting - Zarda BBQ - Lenexa
DESCRIPTION:Please Join Us!
URL:https://kcvjmc.com/event/kcvjmc-meeting-zarda-bbq/
LOCATION:Zarda\, 11931 West 87th St\, Lenexa\, KS\, 66215\, United States
END:VEVENT
BEGIN:VEVENT
DTSTART;VALUE=DATE:20260917
DTEND;VALUE=DATE:20260921
DTSTAMP:20260424T012018
CREATED:20260203T022433Z
LAST-MODIFIED:20260331T132520Z
UID:3435-1789603200-1789948799@kcvjmc.com
SUMMARY:VJMC National Rally 2026 (California)
DESCRIPTION:San Luis Obispo California. For details see https://vjmc.org/calendar
URL:https://kcvjmc.com/event/vjmc-national-rally-2026-california/
END:VEVENT
BEGIN:VEVENT
DTSTART;TZID=America/Chicago:20260912T100000
DTEND;TZID=America/Chicago:20260912T140000
DTSTAMP:20260424T012018
CREATED:20260129T021253Z
LAST-MODIFIED:20260418T013023Z
UID:3420-1789207200-1789221600@kcvjmc.com
SUMMARY:Liberty Cycle Center Rally
DESCRIPTION:Please Join Us!
URL:https://kcvjmc.com/event/liberty-cycle-center-rally/
LOCATION:LCCPOWERSPORTS\, 321 N 291 HWY\, Liberty\, Missouri\, 64068
END:VEVENT
BEGIN:VEVENT
DTSTART;TZID=America/Chicago:20260825T180000
DTEND;TZID=America/Chicago:20260825T200000
DTSTAMP:20260424T012018
CREATED:20240325T000553Z
LAST-MODIFIED:20260203T023902Z
UID:2073-1787680800-1787688000@kcvjmc.com
SUMMARY:Club Meeting - Zarda BBQ - Lenexa
DESCRIPTION:Please join us! \n 
URL:https://kcvjmc.com/event/club-meeting-zarda-bbq-5/
LOCATION:Zarda\, 11931 West 87th St\, Lenexa\, KS\, 66215\, United States
END:VEVENT
BEGIN:VEVENT
DTSTART;VALUE=DATE:20260820
DTEND;VALUE=DATE:20260823
DTSTAMP:20260424T012018
CREATED:20260129T020507Z
LAST-MODIFIED:20260322T201337Z
UID:3417-1787184000-1787443199@kcvjmc.com
SUMMARY:Meetin-in-the-Middle
DESCRIPTION:For more information Click on the Meetin’ in the Middle page in the header above or the footer below
URL:https://kcvjmc.com/event/meetin-in-the-middle-3/
LOCATION:Edwards MotorSports\, 1010 34th Ave\, Council Bluffs\, IA\, 50501\, United States
END:VEVENT
BEGIN:VEVENT
DTSTART;TZID=America/Chicago:20260801T093000
DTEND;TZID=America/Chicago:20260801T140000
DTSTAMP:20260424T012018
CREATED:20260119T164648Z
LAST-MODIFIED:20260412T164628Z
UID:3392-1785576600-1785592800@kcvjmc.com
SUMMARY:Commemorative Air Force Rally
DESCRIPTION:Please Join Us!
URL:https://kcvjmc.com/event/commemorative-air-force-rally/
LOCATION:Commemorative Air Force\, 6 Aero Plaza\, New Century\, Kansas\, 66031
END:VEVENT
BEGIN:VEVENT
DTSTART;TZID=America/Chicago:20260728T180000
DTEND;TZID=America/Chicago:20260728T200000
DTSTAMP:20260424T012018
CREATED:20240325T000846Z
LAST-MODIFIED:20260121T231840Z
UID:2075-1785261600-1785268800@kcvjmc.com
SUMMARY:Club Meeting - Zarda BBQ
DESCRIPTION:Please join us! \n 
URL:https://kcvjmc.com/event/club-meeting-zarda-bbq-6/
LOCATION:Zarda\, 11931 West 87th St\, Lenexa\, KS\, 66215\, United States
END:VEVENT
BEGIN:VEVENT
DTSTART;TZID=America/Chicago:20260725T090000
DTEND;TZID=America/Chicago:20260725T130000
DTSTAMP:20260424T012018
CREATED:20260121T224944Z
LAST-MODIFIED:20260322T201250Z
UID:3395-1784970000-1784984400@kcvjmc.com
SUMMARY:All Kansas City Two Stroke Rally
DESCRIPTION:Please Join Us!
URL:https://kcvjmc.com/event/all-kansas-city-two-stroke-rally/
LOCATION:Johnny Ray’s Drive-in\, 800 SW Blue Parkway\, Lee's Summit\, Missouri\, 64063
ORGANIZER;CN="Bill Wilson":MAILTO:WVWRZ@aol.com
END:VEVENT
BEGIN:VEVENT
DTSTART;TZID=America/Chicago:20260704T110000
DTEND;TZID=America/Chicago:20260704T140000
DTSTAMP:20260424T012018
CREATED:20260423T160817Z
LAST-MODIFIED:20260423T162018Z
UID:3579-1783162800-1783173600@kcvjmc.com
SUMMARY:VJMC Modern Classic & Vintage Motorcycle Show - North Carolina
DESCRIPTION:VJMC in Eastern North Carolina is organizing a 4th of July motorcycle show in conjunction with the town of Castalia 4th of July Festival. See https://VJMC.org/calendar for details.
URL:https://kcvjmc.com/event/vjmc-modern-classic-vintage-motorcycle-show/
ORGANIZER;CN="VJMC":MAILTO:45thAnniversaryRally@vjmc.org
END:VEVENT
BEGIN:VEVENT
DTSTART;TZID=America/Chicago:20260630T180000
DTEND;TZID=America/Chicago:20260630T200000
DTSTAMP:20260424T012018
CREATED:20240814T151414Z
LAST-MODIFIED:20260121T231744Z
UID:2487-1782842400-1782849600@kcvjmc.com
SUMMARY:Club Meeting - Zarda BBQ
DESCRIPTION:Please join us! \n 
URL:https://kcvjmc.com/event/2487/
LOCATION:Zarda\, 11931 West 87th St\, Lenexa\, KS\, 66215\, United States
END:VEVENT
BEGIN:VEVENT
DTSTART;VALUE=DATE:20260625
DTEND;VALUE=DATE:20260628
DTSTAMP:20260424T012018
CREATED:20260203T022131Z
LAST-MODIFIED:20260423T161739Z
UID:3433-1782345600-1782604799@kcvjmc.com
SUMMARY:VJMC 2026 East Coast Rally
DESCRIPTION:Rally will take place June 25-27\, 2026\, at the Copperhead Resort and Lodge in Blairsville\, Georgia. \nFor details see https://vjmc.org/calendar
URL:https://kcvjmc.com/event/2026-east-coast-rally/
END:VEVENT
BEGIN:VEVENT
DTSTART;TZID=America/Chicago:20260614T120000
DTEND;TZID=America/Chicago:20260614T170000
DTSTAMP:20260424T012018
CREATED:20251228T210614Z
LAST-MODIFIED:20260331T131947Z
UID:3372-1781438400-1781456400@kcvjmc.com
SUMMARY:Bill Browns 12th Annual Sidecar Meet and Picnic
DESCRIPTION:Please join us:
URL:https://kcvjmc.com/event/bill-browns-sidecar-meet-and-picnic/
LOCATION:Bill Brown\, 8120 Gleason\, Lenexa\, Kansas
END:VEVENT
BEGIN:VEVENT
DTSTART;TZID=America/Chicago:20260606T100000
DTEND;TZID=America/Chicago:20260606T140000
DTSTAMP:20260424T012018
CREATED:20260303T025613Z
LAST-MODIFIED:20260423T161422Z
UID:3503-1780740000-1780754400@kcvjmc.com
SUMMARY:South Dakota VJMC Show - Sioux Falls
DESCRIPTION:Preregister by email or by 9:30am day of show. \nTodd Tagatz 605-366-5878\, trtagtz@gmail.com
URL:https://kcvjmc.com/event/south-dakota-vjmc-show/
LOCATION:VernEidePowerHouse.com\, 4800 N. Westport Ave.\, Sioux Falls\, SD\, 57107\, United States
ORGANIZER;CN="Todd Tagatz":MAILTO:trtagtz@gmail.com
END:VEVENT
BEGIN:VEVENT
DTSTART;TZID=America/Chicago:20260526T180000
DTEND;TZID=America/Chicago:20260526T200000
DTSTAMP:20260424T012018
CREATED:20240219T141400Z
LAST-MODIFIED:20260121T231633Z
UID:1540-1779818400-1779825600@kcvjmc.com
SUMMARY:Club Meeting - Zarda Bar-B-Q Lenexa
DESCRIPTION:Please Join Us! \n  \n 
URL:https://kcvjmc.com/event/club-meeting-zarda-bar-b-q-lenexa/
LOCATION:Zarda\, 11931 West 87th St\, Lenexa\, KS\, 66215\, United States
CATEGORIES:Dinner
END:VEVENT
BEGIN:VEVENT
DTSTART;TZID=America/Chicago:20260516T093000
DTEND;TZID=America/Chicago:20260516T130000
DTSTAMP:20260424T012018
CREATED:20260119T164340Z
LAST-MODIFIED:20260401T170710Z
UID:3390-1778923800-1778936400@kcvjmc.com
SUMMARY:Donnell's Spring Show
DESCRIPTION:Please Join Us! \n \nhttps://kcvjmc.com/wp-content/uploads/2026/04/2026-Donnell-Show.jpg
URL:https://kcvjmc.com/event/donnells-spring-show/
LOCATION:Donnell’s Motorcycles\, 17851 US-40\, Independence\, Missouri\, 64055
END:VEVENT
BEGIN:VEVENT
DTSTART;TZID=America/Chicago:20260428T180000
DTEND;TZID=America/Chicago:20260428T200000
DTSTAMP:20260424T012018
CREATED:20240324T235036Z
LAST-MODIFIED:20260412T164512Z
UID:2065-1777399200-1777406400@kcvjmc.com
SUMMARY:Club Meeting - Zarda BBQ
DESCRIPTION:Please join us! \n \n 
URL:https://kcvjmc.com/event/club-meeting-zarda-bbq/
LOCATION:Zarda\, 11931 West 87th St\, Lenexa\, KS\, 66215\, United States
END:VEVENT
BEGIN:VEVENT
DTSTART;TZID=America/Chicago:20260331T180000
DTEND;TZID=America/Chicago:20260331T200000
DTSTAMP:20260424T012018
CREATED:20240325T000027Z
LAST-MODIFIED:20260303T230502Z
UID:2069-1774980000-1774987200@kcvjmc.com
SUMMARY:Club Meeting - Zarda BBQ
DESCRIPTION:Please join us! \n \n 
URL:https://kcvjmc.com/event/club-meeting-zarda-bbq-3/
LOCATION:Zarda\, 11931 West 87th St\, Lenexa\, KS\, 66215\, United States
END:VEVENT
BEGIN:VEVENT
DTSTART;TZID=America/Chicago:20260224T180000
DTEND;TZID=America/Chicago:20260224T200000
DTSTAMP:20260424T012018
CREATED:20240324T235550Z
LAST-MODIFIED:20260214T231811Z
UID:2067-1771956000-1771963200@kcvjmc.com
SUMMARY:Club Meeting - Zarda BBQ
DESCRIPTION:Please join us! \n  \n \n 
URL:https://kcvjmc.com/event/club-meeting-zarda-bbq-2/
LOCATION:Zarda\, 11931 West 87th St\, Lenexa\, KS\, 66215\, United States
CATEGORIES:Dinner
END:VEVENT
BEGIN:VEVENT
DTSTART;VALUE=DATE:20260213
DTEND;VALUE=DATE:20260216
DTSTAMP:20260424T012018
CREATED:20260203T021628Z
LAST-MODIFIED:20260203T021628Z
UID:3430-1770940800-1771199999@kcvjmc.com
SUMMARY:South Dakota VJMC Motorcycle Display - Toppers Car Show
DESCRIPTION:Dedicated display of South Dakota VJMC members vintage motorcycles within premiere show hosted by Toppers Car Club February 13-15th\, 2026.  \nFor details see http://vjmc.org/calendar
URL:https://kcvjmc.com/event/south-dakota-vjmc-motorcycle-display-toppers-car-show/
END:VEVENT
BEGIN:VEVENT
DTSTART;TZID=America/Chicago:20260201T090000
DTEND;TZID=America/Chicago:20260201T140000
DTSTAMP:20260424T012018
CREATED:20251103T232510Z
LAST-MODIFIED:20251103T232844Z
UID:3340-1769936400-1769954400@kcvjmc.com
SUMMARY:Santa Fe Trail's 16th Annual Vintage Motorcycle Show
DESCRIPTION:
URL:https://kcvjmc.com/event/santa-fe-trails-16th-annual-vintage-motorcycle-show/
LOCATION:Douglas County Fairgrounds\, 2120 Harper St.\, Lawrence\, Kansas
CATEGORIES:Motorcycle Show & Awards
END:VEVENT
BEGIN:VEVENT
DTSTART;TZID=America/Chicago:20260127T180000
DTEND;TZID=America/Chicago:20260127T200000
DTSTAMP:20260424T012018
CREATED:20211231T074722Z
LAST-MODIFIED:20260123T012723Z
UID:677-1769536800-1769544000@kcvjmc.com
SUMMARY:Club Meeting - Zarda Bar-B-Q Lenexa
DESCRIPTION:Please Join Us!
URL:https://kcvjmc.com/event/club-meeting-club-meeting-zarda-bar-b-q-lenexa/
LOCATION:Zarda\, 11931 West 87th St\, Lenexa\, KS\, 66215\, United States
CATEGORIES:Dinner
END:VEVENT
BEGIN:VEVENT
DTSTART;TZID=America/Chicago:20251214T170000
DTEND;TZID=America/Chicago:20251214T200000
DTSTAMP:20260424T012018
CREATED:20241030T222824Z
LAST-MODIFIED:20251030T221155Z
UID:2555-1765731600-1765742400@kcvjmc.com
SUMMARY:KCVJMC Christmas Party
DESCRIPTION:Please Join us! Participate in the gift exchange for fun! \n \n 
URL:https://kcvjmc.com/event/kcvjmc-christmas-party/
LOCATION:Zarda\, 11931 West 87th St\, Lenexa\, KS\, 66215\, United States
END:VEVENT
BEGIN:VEVENT
DTSTART;TZID=America/Chicago:20251025T113000
DTEND;TZID=America/Chicago:20251025T150000
DTSTAMP:20260424T012018
CREATED:20251001T151252Z
LAST-MODIFIED:20251003T234048Z
UID:3288-1761391800-1761404400@kcvjmc.com
SUMMARY:Fall KCVJMC Pizza Picnic
DESCRIPTION:   \n  \n 
URL:https://kcvjmc.com/event/october-meeting-dan-eckart-moto-barn/
LOCATION:Dan Eckart’s MOTO BARN\, 17017 East Highway 6\, Altmont\, MO\, 64620\, United States
END:VEVENT
BEGIN:VEVENT
DTSTART;TZID=America/Chicago:20250920T100000
DTEND;TZID=America/Chicago:20250920T140000
DTSTAMP:20260424T012018
CREATED:20240220T022540Z
LAST-MODIFIED:20250516T014416Z
UID:1949-1758362400-1758376800@kcvjmc.com
SUMMARY:All Japanese Motorcycle Rally at LLC Powersports
DESCRIPTION:Please Join Us!  \n \n 
URL:https://kcvjmc.com/event/all-japanese-motorcycle-rally-liberty-cycle-center/
LOCATION:LCCPOWERSPORTS\, 321 N 291 HWY\, Liberty\, Missouri\, 64068
END:VEVENT
BEGIN:VEVENT
DTSTART;VALUE=DATE:20250829
DTEND;VALUE=DATE:20250902
DTSTAMP:20260424T012018
CREATED:20240325T012944Z
LAST-MODIFIED:20250428T150852Z
UID:2081-1756425600-1756771199@kcvjmc.com
SUMMARY:VJMC 2025 National Rally
DESCRIPTION:Windber Recreational Park \n1608 Hwy 227 \nWindber\, PA \nLast day to register is July 29\, 2025 for Motel room reservations
URL:https://kcvjmc.com/event/vjmc-2024-national-rally/
ORGANIZER;CN="VJMC":MAILTO:45thAnniversaryRally@vjmc.org
END:VEVENT
BEGIN:VEVENT
DTSTART;TZID=America/Chicago:20250809T090000
DTEND;TZID=America/Chicago:20250809T130000
DTSTAMP:20260424T012018
CREATED:20250516T012909Z
LAST-MODIFIED:20250516T013544Z
UID:2813-1754730000-1754744400@kcvjmc.com
SUMMARY:10th Annual Kansas City ALL 2 Stroke Rally
DESCRIPTION:Please join us!
URL:https://kcvjmc.com/event/10th-annual-kansas-city-all-2-stroke-rally/
LOCATION:Johhny Ray’s Drive-in\, 800 SW Blue Parkway\, Lee's Summit\, Missouri\, 64063
END:VEVENT
BEGIN:VEVENT
DTSTART;TZID=America/Chicago:20250802T100000
DTEND;TZID=America/Chicago:20250802T140000
DTSTAMP:20260424T012018
CREATED:20240219T194537Z
LAST-MODIFIED:20250714T144718Z
UID:1848-1754128800-1754143200@kcvjmc.com
SUMMARY:Vintage Japanese Motorcycle Rally at Commemorative Air Force
DESCRIPTION:Please join us! \n \n 
URL:https://kcvjmc.com/event/vintage-japanese-motorcycle-rally-at-commemorative-air-force/
LOCATION:Commemorative Air Force\, 6 Aero Plaza\, New Century\, Kansas\, 66031
END:VEVENT
BEGIN:VEVENT
DTSTART;TZID=America/Chicago:20250727T120000
DTEND;TZID=America/Chicago:20250727T170000
DTSTAMP:20260424T012018
CREATED:20240219T155055Z
LAST-MODIFIED:20250516T014609Z
UID:1826-1753617600-1753635600@kcvjmc.com
SUMMARY:2025 Bill Brown's 11th Annual Sidecar Meet & Picnic
DESCRIPTION:
URL:https://kcvjmc.com/event/2024-bill-brown-picnic-and-sidecar-rally/
LOCATION:Bill Brown\, 8120 Gleason\, Lenexa\, Kansas
END:VEVENT
END:VCALENDAR