BEGIN:VCALENDAR
VERSION:2.0
PRODID:-//KCVJMC.COM - ECPv6.15.20//NONSGML v1.0//EN
CALSCALE:GREGORIAN
METHOD:PUBLISH
X-WR-CALNAME:KCVJMC.COM
X-ORIGINAL-URL:https://kcvjmc.com
X-WR-CALDESC:Events for KCVJMC.COM
REFRESH-INTERVAL;VALUE=DURATION:PT1H
X-Robots-Tag:noindex
X-PUBLISHED-TTL:PT1H
BEGIN:VTIMEZONE
TZID:America/Chicago
BEGIN:DAYLIGHT
TZOFFSETFROM:-0600
TZOFFSETTO:-0500
TZNAME:CDT
DTSTART:20230312T080000
END:DAYLIGHT
BEGIN:STANDARD
TZOFFSETFROM:-0500
TZOFFSETTO:-0600
TZNAME:CST
DTSTART:20231105T070000
END:STANDARD
BEGIN:DAYLIGHT
TZOFFSETFROM:-0600
TZOFFSETTO:-0500
TZNAME:CDT
DTSTART:20240310T080000
END:DAYLIGHT
BEGIN:STANDARD
TZOFFSETFROM:-0500
TZOFFSETTO:-0600
TZNAME:CST
DTSTART:20241103T070000
END:STANDARD
BEGIN:DAYLIGHT
TZOFFSETFROM:-0600
TZOFFSETTO:-0500
TZNAME:CDT
DTSTART:20250309T080000
END:DAYLIGHT
BEGIN:STANDARD
TZOFFSETFROM:-0500
TZOFFSETTO:-0600
TZNAME:CST
DTSTART:20251102T070000
END:STANDARD
BEGIN:DAYLIGHT
TZOFFSETFROM:-0600
TZOFFSETTO:-0500
TZNAME:CDT
DTSTART:20260308T080000
END:DAYLIGHT
BEGIN:STANDARD
TZOFFSETFROM:-0500
TZOFFSETTO:-0600
TZNAME:CST
DTSTART:20261101T070000
END:STANDARD
END:VTIMEZONE
BEGIN:VTIMEZONE
TZID:America/Chicago
BEGIN:DAYLIGHT
TZOFFSETFROM:-0600
TZOFFSETTO:-0500
TZNAME:CDT
DTSTART:20230312T080000
END:DAYLIGHT
BEGIN:STANDARD
TZOFFSETFROM:-0500
TZOFFSETTO:-0600
TZNAME:CST
DTSTART:20231105T070000
END:STANDARD
BEGIN:DAYLIGHT
TZOFFSETFROM:-0600
TZOFFSETTO:-0500
TZNAME:CDT
DTSTART:20240310T080000
END:DAYLIGHT
BEGIN:STANDARD
TZOFFSETFROM:-0500
TZOFFSETTO:-0600
TZNAME:CST
DTSTART:20241103T070000
END:STANDARD
BEGIN:DAYLIGHT
TZOFFSETFROM:-0600
TZOFFSETTO:-0500
TZNAME:CDT
DTSTART:20250309T080000
END:DAYLIGHT
BEGIN:STANDARD
TZOFFSETFROM:-0500
TZOFFSETTO:-0600
TZNAME:CST
DTSTART:20251102T070000
END:STANDARD
END:VTIMEZONE
BEGIN:VEVENT
DTSTART;TZID=America/Chicago:20250608T090000
DTEND;TZID=America/Chicago:20250608T120000
DTSTAMP:20260423T180240
CREATED:20240219T161056Z
LAST-MODIFIED:20250519T131119Z
UID:1834-1749373200-1749384000@kcvjmc.com
SUMMARY:2025 Kansas City Motorcycle Invitational @Blip Coffee
DESCRIPTION:Please Join Us!
URL:https://kcvjmc.com/event/2024-kansas-city-motorcycle-invitational-blip-coffee/
LOCATION:Blip Coffee\, 1301 Woodsweather Rd.\, Kansas City\, Missouri
END:VEVENT
BEGIN:VEVENT
DTSTART;TZID=America/Chicago:20250517T093000
DTEND;TZID=America/Chicago:20250517T130000
DTSTAMP:20260423T180240
CREATED:20231101T183127Z
LAST-MODIFIED:20250315T113339Z
UID:1842-1747474200-1747486800@kcvjmc.com
SUMMARY:Donnell's 2025 Spring Vintage Motorcycle Show
DESCRIPTION:Please join us! \n \n 
URL:https://kcvjmc.com/event/donnells-spring-vintage-motorcycle-show/
LOCATION:Donnell’s Motorcycles\, 17851 US-40\, Independence\, Missouri\, 64055
END:VEVENT
BEGIN:VEVENT
DTSTART;TZID=America/Chicago:20241123T103000
DTEND;TZID=America/Chicago:20241123T140000
DTSTAMP:20260423T180240
CREATED:20241109T140820Z
LAST-MODIFIED:20241112T013944Z
UID:2570-1732357800-1732370400@kcvjmc.com
SUMMARY:Ride/Drive - Dan Ackart's Vintage Motorcycle Collection
DESCRIPTION:Meet up at Liberty Cycle Center (LCC) Powersports parking lot at 10:30 am. Ride/Drive route is north I35 to exit 61 to approximate location. More details to follow.
URL:https://kcvjmc.com/event/ride-drive-dan-ackarts-vintage-motorcycle-collection/
LOCATION:LCCPOWERSPORTS\, 321 N 291 HWY\, Liberty\, Missouri\, 64068
END:VEVENT
BEGIN:VEVENT
DTSTART;TZID=America/Chicago:20240810T090000
DTEND;TZID=America/Chicago:20240810T130000
DTSTAMP:20260423T180240
CREATED:20240219T194940Z
LAST-MODIFIED:20240314T005209Z
UID:1850-1723280400-1723294800@kcvjmc.com
SUMMARY:2024 All Kansas City Two-Stroke Rally
DESCRIPTION:Please join us!
URL:https://kcvjmc.com/event/all-kc-two-stroke-rally/
LOCATION:Johhny Ray’s Drive-in\, 800 SW Blue Parkway\, Lee's Summit\, Missouri\, 64063
CATEGORIES:Motorcycle Show & Awards
END:VEVENT
BEGIN:VEVENT
DTSTART;VALUE=DATE:20240712
DTEND;VALUE=DATE:20240715
DTSTAMP:20260423T180240
CREATED:20240219T193756Z
LAST-MODIFIED:20240325T002839Z
UID:1846-1720742400-1721001599@kcvjmc.com
SUMMARY:Meetin-In-The-Middle
DESCRIPTION:Please join us!  Bike Show!  Awards!  Lunch! Dinner!  Bike Ride! \n \n 
URL:https://kcvjmc.com/event/meetin-in-the-middle/
LOCATION:ST. JOE POWERSPORTS\, 2207 N Belt Hwy\, Saint Joseph\, MO\, 64506\, United States
CATEGORIES:Motorcycle Show & Awards
END:VEVENT
BEGIN:VEVENT
DTSTART;TZID=America/Chicago:20240421T133000
DTEND;TZID=America/Chicago:20240421T160000
DTSTAMP:20260423T180240
CREATED:20240412T214653Z
LAST-MODIFIED:20240412T214653Z
UID:2172-1713706200-1713715200@kcvjmc.com
SUMMARY:You are invited - Ride to Harolds Smoke House
DESCRIPTION:
URL:https://kcvjmc.com/event/you-are-invited-ride-to-harolds-smoke-house/
LOCATION:Harold’s Smoke House\, 27500 S State Route 2\, Freeman\, MO\, 64746\, United States
END:VEVENT
END:VCALENDAR