BEGIN:VCALENDAR
VERSION:2.0
PRODID:-//KCVJMC.COM - ECPv6.15.20//NONSGML v1.0//EN
CALSCALE:GREGORIAN
METHOD:PUBLISH
X-ORIGINAL-URL:https://kcvjmc.com
X-WR-CALDESC:Events for KCVJMC.COM
REFRESH-INTERVAL;VALUE=DURATION:PT1H
X-Robots-Tag:noindex
X-PUBLISHED-TTL:PT1H
BEGIN:VTIMEZONE
TZID:America/Chicago
BEGIN:DAYLIGHT
TZOFFSETFROM:-0600
TZOFFSETTO:-0500
TZNAME:CDT
DTSTART:20250309T080000
END:DAYLIGHT
BEGIN:STANDARD
TZOFFSETFROM:-0500
TZOFFSETTO:-0600
TZNAME:CST
DTSTART:20251102T070000
END:STANDARD
BEGIN:DAYLIGHT
TZOFFSETFROM:-0600
TZOFFSETTO:-0500
TZNAME:CDT
DTSTART:20260308T080000
END:DAYLIGHT
BEGIN:STANDARD
TZOFFSETFROM:-0500
TZOFFSETTO:-0600
TZNAME:CST
DTSTART:20261101T070000
END:STANDARD
BEGIN:DAYLIGHT
TZOFFSETFROM:-0600
TZOFFSETTO:-0500
TZNAME:CDT
DTSTART:20270314T080000
END:DAYLIGHT
BEGIN:STANDARD
TZOFFSETFROM:-0500
TZOFFSETTO:-0600
TZNAME:CST
DTSTART:20271107T070000
END:STANDARD
END:VTIMEZONE
BEGIN:VEVENT
DTSTART;TZID=America/Chicago:20260801T093000
DTEND;TZID=America/Chicago:20260801T140000
DTSTAMP:20260423T180940
CREATED:20260119T164648Z
LAST-MODIFIED:20260412T164628Z
UID:3392-1785576600-1785592800@kcvjmc.com
SUMMARY:Commemorative Air Force Rally
DESCRIPTION:Please Join Us!
URL:https://kcvjmc.com/event/commemorative-air-force-rally/
LOCATION:Commemorative Air Force\, 6 Aero Plaza\, New Century\, Kansas\, 66031
END:VEVENT
BEGIN:VEVENT
DTSTART;VALUE=DATE:20260820
DTEND;VALUE=DATE:20260823
DTSTAMP:20260423T180940
CREATED:20260129T020507Z
LAST-MODIFIED:20260322T201337Z
UID:3417-1787184000-1787443199@kcvjmc.com
SUMMARY:Meetin-in-the-Middle
DESCRIPTION:For more information Click on the Meetin’ in the Middle page in the header above or the footer below
URL:https://kcvjmc.com/event/meetin-in-the-middle-3/
LOCATION:Edwards MotorSports\, 1010 34th Ave\, Council Bluffs\, IA\, 50501\, United States
END:VEVENT
BEGIN:VEVENT
DTSTART;TZID=America/Chicago:20260825T180000
DTEND;TZID=America/Chicago:20260825T200000
DTSTAMP:20260423T180940
CREATED:20240325T000553Z
LAST-MODIFIED:20260203T023902Z
UID:2073-1787680800-1787688000@kcvjmc.com
SUMMARY:Club Meeting - Zarda BBQ - Lenexa
DESCRIPTION:Please join us! \n 
URL:https://kcvjmc.com/event/club-meeting-zarda-bbq-5/
LOCATION:Zarda\, 11931 West 87th St\, Lenexa\, KS\, 66215\, United States
END:VEVENT
END:VCALENDAR